Workbook
Name KT할부개월: 설정!$V$5:$V$7
Name SKT할부개월: 설정!$U$5:$U$7

Sheet 월 요금계산
D1: T 4G LTE | J1: Olleh LTE WARP
C2: 요금제 | D2: LTE팅34 | E2: LTE34 | F2: LTE팅42 | G2: LTE42 | H2: LTE52 | I2: LTE62 | J2: LTE 알340 | K2: LTE 340 | L2: LTE 알420 | M2: LTE 420 | N2: LTE 520 | O2: LTE 620
C3: 기본료 | D3: 34000 | F3: 42000 | H3: 52000 | I3: 62000 | J3: 34000 | L3: 42000 | N3: 52000 | O3: 62000
C4: 음성 | D4: 34000별 | E4: 120분 | F4: 52000별 | G4: 180분 | H4: 250분 | I4: 350분 | J4: 33000알 | K4: 160분 | L4: 52000알 | M4: 200분 | N4: 250분 | O4: 350분
C5: 문자 | E5: 200건 | G5: 200건 | H5: 250건 | I5: 350건 | K5: 200건 | M5: 200건 | N5: 250건 | O5: 350건
C6: 데이터 | D6: 500MB | E6: 550MB | F6: 1GB | G6: 1.1GB | H6: 2GB | I6: 5GB | J6: 750MB | K6: 750MB | L6: 1.5GB | M6: 1.5GB | N6: 2.5GB | O6: 6GB
C7: 추가 | D7: 문자무제한 | F7: 문자무제한 | I7: T Freemium | N7: 1000분 | O7: 3000분
B8: LTE 모델 | C8: 혜택 | I8: 20,000원 | N8: KT끼리 무료통화
B10: 갤럭시 S2 LTE | D10: =ROUNDDOWN(설정!H14,-2) -> 58100 | F10: =ROUNDDOWN(설정!I14,-2) -> 63100 | H10: =ROUNDDOWN(설정!J14,-2) -> 70800 | I10: =ROUNDDOWN(설정!K14,-2) -> 78000 | J10: X
B11: 갤럭시 S2 HD | D11: =ROUNDDOWN(설정!H15,-2) -> 59600 | F11: =ROUNDDOWN(설정!I15,-2) -> 64600 | H11: =ROUNDDOWN(설정!J15,-2) -> 72300 | I11: =ROUNDDOWN(설정!K15,-2) -> 79500 | J11: =ROUNDDOWN(설정!M15,-2) -> 61500 | L11: =ROUNDDOWN(설정!N15,-2) -> 65900 | N11: =ROUNDDOWN(설정!O15,-2) -> 73600 | O11: =ROUNDDOWN(설정!P15,-2) -> 81100
B12: 갤럭시 노트 | D12: =ROUNDDOWN(설정!H16,-2) -> 60900 | F12: =ROUNDDOWN(설정!I16,-2) -> 65800 | H12: =ROUNDDOWN(설정!J16,-2) -> 73500 | I12: =ROUNDDOWN(설정!K16,-2) -> 80800 | J12: =ROUNDDOWN(설정!M16,-2) -> 63000 | L12: =ROUNDDOWN(설정!N16,-2) -> 67400 | N12: =ROUNDDOWN(설정!O16,-2) -> 75100 | O12: =ROUNDDOWN(설정!P16,-2) -> 82500
A13: NEW | B13: 갤럭시 S3 | D13: =ROUNDDOWN(설정!H17,-2) -> 63000 | F13: =ROUNDDOWN(설정!I17,-2) -> 68000 | H13: =ROUNDDOWN(설정!J17,-2) -> 75700 | I13: =ROUNDDOWN(설정!K17,-2) -> 82900 | J13: =ROUNDDOWN(설정!M17,-2) -> 65100 | L13: =ROUNDDOWN(설정!N17,-2) -> 69500 | N13: =ROUNDDOWN(설정!O17,-2) -> 77200 | O13: =ROUNDDOWN(설정!P17,-2) -> 84700
B14: 베가 LTE | D14: =ROUNDDOWN(설정!H18,-2) -> 59600 | F14: =ROUNDDOWN(설정!I18,-2) -> 64600 | H14: =ROUNDDOWN(설정!J18,-2) -> 72300 | I14: =ROUNDDOWN(설정!K18,-2) -> 79500 | J14: X
B15: 베가 LTE M | D15: =ROUNDDOWN(설정!H19,-2) -> 59600 | F15: =ROUNDDOWN(설정!I19,-2) -> 64600 | H15: =ROUNDDOWN(설정!J19,-2) -> 72300 | I15: =ROUNDDOWN(설정!K19,-2) -> 79500 | J15: =ROUNDDOWN(설정!M19,-2) -> 61500 | L15: =ROUNDDOWN(설정!N19,-2) -> 65900 | N15: =ROUNDDOWN(설정!O19,-2) -> 73600 | O15: =ROUNDDOWN(설정!P19,-2) -> 81100
A16: NEW | B16: 베가 레이서 2 | D16: =ROUNDDOWN(설정!H20,-2) -> 60100 | F16: =ROUNDDOWN(설정!I20,-2) -> 65100 | H16: =ROUNDDOWN(설정!J20,-2) -> 72800 | I16: =ROUNDDOWN(설정!K20,-2) -> 80000 | J16: =ROUNDDOWN(설정!M20,-2) -> 62300 | L16: =ROUNDDOWN(설정!N20,-2) -> 66700 | N16: =ROUNDDOWN(설정!O20,-2) -> 74400 | O16: =ROUNDDOWN(설정!P20,-2) -> 81800
B17: 옵티머스 LTE | D17: =ROUNDDOWN(설정!H21,-2) -> 57100 | F17: =ROUNDDOWN(설정!I21,-2) -> 62000 | H17: =ROUNDDOWN(설정!J21,-2) -> 69700 | I17: =ROUNDDOWN(설정!K21,-2) -> 77000 | J17: X
B18: 옵티머스 Tag | D18: =ROUNDDOWN(설정!H22,-2) -> 55800 | F18: =ROUNDDOWN(설정!I22,-2) -> 60700 | H18: =ROUNDDOWN(설정!J22,-2) -> 68400 | I18: =ROUNDDOWN(설정!K22,-2) -> 75700 | J18: =ROUNDDOWN(설정!M22,-2) -> 58000 | L18: =ROUNDDOWN(설정!N22,-2) -> 62400 | N18: =ROUNDDOWN(설정!O22,-2) -> 70100 | O18: =ROUNDDOWN(설정!P22,-2) -> 77500
B19: 옵티머스 뷰 | D19: =ROUNDDOWN(설정!H23,-2) -> 63200 | F19: =ROUNDDOWN(설정!I23,-2) -> 68200 | H19: =ROUNDDOWN(설정!J23,-2) -> 75900 | I19: =ROUNDDOWN(설정!K23,-2) -> 83100 | J19: X
A20: NEW | B20: 옵티머스 LTE 2 | D20: =ROUNDDOWN(설정!H24,-2) -> 60900 | F20: =ROUNDDOWN(설정!I24,-2) -> 65900 | H20: =ROUNDDOWN(설정!J24,-2) -> 73600 | I20: =ROUNDDOWN(설정!K24,-2) -> 80800 | J20: =ROUNDDOWN(설정!M24,-2) -> 63000 | L20: =ROUNDDOWN(설정!N24,-2) -> 67400 | N20: =ROUNDDOWN(설정!O24,-2) -> 75100 | O20: =ROUNDDOWN(설정!P24,-2) -> 82500
D25: SKT | I25: KT
C26: 요금제 | D26: 올인원팅34 | E26: 올인원34 | F26: 올인원팅44 | G26: 올인원44 | H26: 올인원54 | I26: 알스마트340 | J26: i-teen | K26: i-slim | L26: 알스마트440 | M26: i-light | N26: i-talk | O26: i-밸류
C27: 기본료 | D27: 34000 | F27: 44000 | H27: 54000 | I27: 34000 | L27: 44000 | O27: 54000
C28: 음성 | D28: 30000별 | E28: 150분 | F28: 50000알 | G28: 200분 | H28: 300분 | I28: 32000알 | J28: 29000알 | K28: 150분 | L28: 52000알 | M28: 200분 | N28: 250분 | O28: 300분
C29: 문자 | E29: 150건 | G29: 200건 | H29: 200건 | J29: 문자 | K29: 200건 | M29: 300건 | N29: 300건 | O29: 300건
C30: 데이터 | D30: 500MB | E30: 100MB | F30: 1GB | G30: 500MB | H30: 무제한 | I30: 500MB | J30: 60000알 | K30: 100MB | L30: 1024MB | M30: 500MB | N30: 100MB | O30: 무제한
B31: 3G 모델
B32: 갤럭시 S2 | D32: =ROUNDDOWN(설정!I30,-2) -> 53400 | F32: =ROUNDDOWN(설정!J30,-2) -> 60500 | H32: =ROUNDDOWN(설정!K30,-2) -> 67200 | I32: =ROUNDDOWN(설정!M30,-2) -> 54000 | J32: =ROUNDDOWN(설정!N30,-2) -> 51800 | L32: =ROUNDDOWN(설정!O30,-2) -> 61200 | M32: =ROUNDDOWN(설정!P30,-2) -> 59500 | O32: =ROUNDDOWN(설정!Q30,-2) -> 67000
B33: 프라다 3 | D33: =ROUNDDOWN(설정!I31,-2) -> 55200 | F33: =ROUNDDOWN(설정!J31,-2) -> 62400 | H33: =ROUNDDOWN(설정!K31,-2) -> 72100 | I33: =ROUNDDOWN(설정!M31,-2) -> 54200 | J33: =ROUNDDOWN(설정!N31,-2) -> 52500 | L33: =ROUNDDOWN(설정!O31,-2) -> 61900 | M33: =ROUNDDOWN(설정!P31,-2) -> 60200 | O33: =ROUNDDOWN(설정!Q31,-2) -> 67700
B34: 태이크 HD | D34: =ROUNDDOWN(설정!I32,-2) -> 0 | F34: =ROUNDDOWN(설정!J32,-2) -> 0 | H34: =ROUNDDOWN(설정!K32,-2) -> 0 | I34: =ROUNDDOWN(설정!M32,-2) -> 51700 | J34: =ROUNDDOWN(설정!N32,-2) -> 50000 | L34: =ROUNDDOWN(설정!O32,-2) -> 59400 | M34: =ROUNDDOWN(설정!P32,-2) -> 57700 | O34: =ROUNDDOWN(설정!Q32,-2) -> 65200
A35: NEW | B35: 갤럭시 S3 | D35: =ROUNDDOWN(설정!I33,-2) -> 53700 | F35: =ROUNDDOWN(설정!J33,-2) -> 60900 | H35: =ROUNDDOWN(설정!K33,-2) -> 67600 | I35: =ROUNDDOWN(설정!M33,-2) -> 0 | J35: =ROUNDDOWN(설정!N33,-2) -> 0 | L35: =ROUNDDOWN(설정!O33,-2) -> 0 | M35: =ROUNDDOWN(설정!P33,-2) -> 0 | O35: =ROUNDDOWN(설정!Q33,-2) -> 0
M39: 제작&배포 광주초이스텔레콤

Sheet 설정
H2: 요금할인 테이블 | U2: 이자율
C3: SKT | D3: KT | H3: SKT | M3: KT | U3: 할부개월 | W3: 이자
C4: 할부 | D4: 할부 | H4: 34 | I4: 42 | J4: 52 | K4: 62 | M4: 34 | N4: 42 | O4: 52 | P4: 62 | U4: SKT | V4: KT | W4: SKT | X4: KT
B5: 설정→ | C5: 30 | D5: 30 | H5: -7000 | I5: -10500 | J5: -13500 | K5: -16000 | M5: -7000 | N5: -11000 | O5: -14000 | P5: -16000 | U5: 24 | V5: 24 | W5: 1.062613 | X5: 1.06
I6: 34 | J6: 44 | K6: 54 | M6: 알34 | N6: 34 | O6: 알44 | P6: 44 | Q6: 54 | U6: 30 | V6: 30 | W6: 1.078 | X6: 1.075
I7: -11000 | J7: -14500 | K7: -17500 | M7: -11500 | N7: -13000 | O7: -14500 | P7: -16000 | Q7: -18000 | U7: 36 | V7: 36 | W7: 1.095539 | X7: 1.09
B12: 모델 | C12: SKT | D12: KT | E12: SKT할인 | F12: KT할인 | H12: SKT | M12: KT | S12: 할부원금 | U12: 할부개월 | W12: 이자 | Y12: 할부금
C13: 출고가 | D13: 출고가 | E13: (만원) | F13: (만원) | H13: 34 | I13: 42 | J13: 52 | K13: 62 | M13: 34 | N13: 42 | O13: 52 | P13: 62 | S13: SKT | T13: KT | U13: SKT | V13: KT | W13: SKT | X13: KT | Y13: SKT | Z13: KT
B14: 갤럭시 S2 LTE | C14: 858000 | E14: 0 | H14: =(34000-7000)*1.1+(S14*W14-70000)/U14 -> 58197.467 | I14: =(42000-10500)*1.1+(S14*W14-70000)/U14 -> 63147.467 | J14: =(52000-13500)*1.1+(S14*W14-70000)/U14 -> 70847.467 | K14: =(62000-16000)*1.1+(S14*W14-100000)/U14 -> 78097.467 | S14: =C14-E14*10000 -> 858000 | U14: =C5 -> 30 | V14: =D5 -> 30 | W14: =IF(OR(설정!C5=""),"",SUMPRODUCT((U5:U7=설정!C5)*(W5:W7))) -> 1.078 | X14: =IF(OR(설정!D5=""),"",SUMPRODUCT((KT할부개월=설정!D5)*(X5:X7))) -> 1.075 | Y14: =S14*W14 -> 924924
B15: 갤럭시 S2 HD | C15: 899800 | D15: 899800 | E15: 0 | F15: 0.98 | H15: =(34000-7000)*1.1+(S15*W15-70000)/U15 -> 59699.48 | I15: =(42000-10500)*1.1+(S15*W15-70000)/U15 -> 64649.48 | J15: =(52000-13500)*1.1+(S15*W15-70000)/U15 -> 72349.48 | K15: =(62000-16000)*1.1+(S15*W15-100000)/U15 -> 79599.48 | M15: =(34000-7000)*1.1+T15*X15/V15 -> 61591.667 | N15: =(42000-11000)*1.1+T15*X15/V15 -> 65991.667 | O15: =(52000-14000)*1.1+T15*X15/V15 -> 73691.667 | P15: =(62000-16000)*1.1+T15*X15/V15-1333 -> 81158.667 | S15: =C15-E15*10000 -> 899800 | T15: =D15-F15*10000 -> 890000 | U15: =C5 -> 30 | V15: =D5 -> 30 | W15: =IF(OR(설정!C5=""),"",SUMPRODUCT((U5:U7=설정!C5)*(W5:W7))) -> 1.078 | X15: =IF(OR(설정!D5=""),"",SUMPRODUCT((KT할부개월=설정!D5)*(X5:X7))) -> 1.075 | Y15: =S15*W15 -> 969984.4 | Z15: =T15*X15 -> 956750
B16: 갤럭시 노트 | C16: 933900 | D16: 933900 | E16: 0 | F16: 0.39 | H16: =(34000-7000)*1.1+(S16*W16-70000)/U16 -> 60924.807 | I16: =(42000-10500)*1.1+(S16*W16-70000)/U16 -> 65874.807 | J16: =(52000-13500)*1.1+(S16*W16-70000)/U16 -> 73574.807 | K16: =(62000-16000)*1.1+(S16*W16-100000)/U16 -> 80824.807 | M16: =(34000-7000)*1.1+T16*X16/V16 -> 63025 | N16: =(42000-11000)*1.1+T16*X16/V16 -> 67425 | O16: =(52000-14000)*1.1+T16*X16/V16 -> 75125 | P16: =(62000-16000)*1.1+T16*X16/V16-1333 -> 82592 | S16: =C16-E16*10000 -> 933900 | T16: =D16-F16*10000 -> 930000 | U16: =C5 -> 30 | V16: =D5 -> 30 | W16: =IF(OR(설정!C5=""),"",SUMPRODUCT((U5:U7=설정!C5)*(W5:W7))) -> 1.078 | X16: =IF(OR(설정!D5=""),"",SUMPRODUCT((KT할부개월=설정!D5)*(X5:X7))) -> 1.075 | Y16: =S16*W16 -> 1006744.2 | Z16: =T16*X16 -> 999750
B17: 갤럭시 S3 | C17: 994000 | D17: 994000 | E17: 0 | F17: 0.4 | H17: =(34000-7000)*1.1+(S17*W17-70000)/U17 -> 63084.4 | I17: =(42000-10500)*1.1+(S17*W17-70000)/U17 -> 68034.4 | J17: =(52000-13500)*1.1+(S17*W17-70000)/U17 -> 75734.4 | K17: =(62000-16000)*1.1+(S17*W17-100000)/U17 -> 82984.4 | M17: =(34000-7000)*1.1+T17*X17/V17 -> 65175 | N17: =(42000-11000)*1.1+T17*X17/V17 -> 69575 | O17: =(52000-14000)*1.1+T17*X17/V17 -> 77275 | P17: =(62000-16000)*1.1+T17*X17/V17-1333 -> 84742 | S17: =C17-E17*10000 -> 994000 | T17: =D17-F17*10000 -> 990000 | U17: =C5 -> 30 | V17: =D5 -> 30 | W17: =IF(OR(설정!C5=""),"",SUMPRODUCT((U5:U7=설정!C5)*(W5:W7))) -> 1.078 | X17: =IF(OR(설정!D5=""),"",SUMPRODUCT((KT할부개월=설정!D5)*(X5:X7))) -> 1.075 | Y17: =S17*W17 -> 1071532 | Z17: =T17*X17 -> 1064250
B18: 베가 LTE | C18: 899800 | E18: 0 | H18: =(34000-7000)*1.1+(S18*W18-70000)/U18 -> 59699.48 | I18: =(42000-10500)*1.1+(S18*W18-70000)/U18 -> 64649.48 | J18: =(52000-13500)*1.1+(S18*W18-70000)/U18 -> 72349.48 | K18: =(62000-16000)*1.1+(S18*W18-100000)/U18 -> 79599.48 | S18: =C18-E18*10000 -> 899800 | U18: =C5 -> 30 | V18: =D5 -> 30 | W18: =IF(OR(설정!C5=""),"",SUMPRODUCT((U5:U7=설정!C5)*(W5:W7))) -> 1.078 | X18: =IF(OR(설정!D5=""),"",SUMPRODUCT((KT할부개월=설정!D5)*(X5:X7))) -> 1.075 | Y18: =S18*W18 -> 969984.4
B19: 베가 LTE M | C19: 899800 | D19: 899800 | E19: 0 | F19: 0.98 | H19: =(34000-7000)*1.1+(S19*W19-70000)/U19 -> 59699.48 | I19: =(42000-10500)*1.1+(S19*W19-70000)/U19 -> 64649.48 | J19: =(52000-13500)*1.1+(S19*W19-70000)/U19 -> 72349.48 | K19: =(62000-16000)*1.1+(S19*W19-100000)/U19 -> 79599.48 | M19: =(34000-7000)*1.1+T19*X19/V19 -> 61591.667 | N19: =(42000-11000)*1.1+T19*X19/V19 -> 65991.667 | O19: =(52000-14000)*1.1+T19*X19/V19 -> 73691.667 | P19: =(62000-16000)*1.1+T19*X19/V19-1333 -> 81158.667 | S19: =C19-E19*10000 -> 899800 | T19: =D19-F19*10000 -> 890000 | U19: =C5 -> 30 | V19: =D5 -> 30 | W19: =IF(OR(설정!C5=""),"",SUMPRODUCT((U5:U7=설정!C5)*(W5:W7))) -> 1.078 | X19: =IF(OR(설정!D5=""),"",SUMPRODUCT((KT할부개월=설정!D5)*(X5:X7))) -> 1.075 | Y19: =S19*W19 -> 969984.4 | Z19: =T19*X19 -> 956750
B20: 베가 레이서 2 | C20: 913000 | D20: 913000 | E20: 0 | F20: 0.3 | H20: =(34000-7000)*1.1+(S20*W20-70000)/U20 -> 60173.8 | I20: =(42000-10500)*1.1+(S20*W20-70000)/U20 -> 65123.8 | J20: =(52000-13500)*1.1+(S20*W20-70000)/U20 -> 72823.8 | K20: =(62000-16000)*1.1+(S20*W20-100000)/U20 -> 80073.8 | M20: =(34000-7000)*1.1+T20*X20/V20 -> 62308.333 | N20: =(42000-11000)*1.1+T20*X20/V20 -> 66708.333 | O20: =(52000-14000)*1.1+T20*X20/V20 -> 74408.333 | P20: =(62000-16000)*1.1+T20*X20/V20-1333 -> 81875.333 | S20: =C20-E20*10000 -> 913000 | T20: =D20-F20*10000 -> 910000 | U20: =C5 -> 30 | V20: =D5 -> 30 | W20: =IF(OR(설정!C5=""),"",SUMPRODUCT((U5:U7=설정!C5)*(W5:W7))) -> 1.078 | X20: =IF(OR(설정!D5=""),"",SUMPRODUCT((KT할부개월=설정!D5)*(X5:X7))) -> 1.075 | Y20: =S20*W20 -> 984214 | Z20: =T20*X20 -> 978250
B21: 옵티머스 LTE | C21: 828000 | E21: 0 | H21: =(34000-7000)*1.1+(S21*W21-70000)/U21 -> 57119.467 | I21: =(42000-10500)*1.1+(S21*W21-70000)/U21 -> 62069.467 | J21: =(52000-13500)*1.1+(S21*W21-70000)/U21 -> 69769.467 | K21: =(62000-16000)*1.1+(S21*W21-100000)/U21 -> 77019.467 | S21: =C21-E21*10000 -> 828000 | U21: =C5 -> 30 | V21: =D5 -> 30 | W21: =IF(OR(설정!C5=""),"",SUMPRODUCT((U5:U7=설정!C5)*(W5:W7))) -> 1.078 | X21: =IF(OR(설정!D5=""),"",SUMPRODUCT((KT할부개월=설정!D5)*(X5:X7))) -> 1.075 | Y21: =S21*W21 -> 892584
B22: 옵티머스 Tag | C22: 792000 | D22: 792000 | E22: 0 | F22: 0.2 | H22: =(34000-7000)*1.1+(S22*W22-70000)/U22 -> 55825.867 | I22: =(42000-10500)*1.1+(S22*W22-70000)/U22 -> 60775.867 | J22: =(52000-13500)*1.1+(S22*W22-70000)/U22 -> 68475.867 | K22: =(62000-16000)*1.1+(S22*W22-100000)/U22 -> 75725.867 | M22: =(34000-7000)*1.1+T22*X22/V22 -> 58008.333 | N22: =(42000-11000)*1.1+T22*X22/V22 -> 62408.333 | O22: =(52000-14000)*1.1+T22*X22/V22 -> 70108.333 | P22: =(62000-16000)*1.1+T22*X22/V22-1333 -> 77575.333 | S22: =C22-E22*10000 -> 792000 | T22: =D22-F22*10000 -> 790000 | U22: =C5 -> 30 | V22: =D5 -> 30 | W22: =IF(OR(설정!C5=""),"",SUMPRODUCT((U5:U7=설정!C5)*(W5:W7))) -> 1.078 | X22: =IF(OR(설정!D5=""),"",SUMPRODUCT((KT할부개월=설정!D5)*(X5:X7))) -> 1.075 | Y22: =S22*W22 -> 853776 | Z22: =T22*X22 -> 849250
B23: 옵티머스 뷰 | C23: 999900 | E23: 0 | H23: =(34000-7000)*1.1+(S23*W23-70000)/U23 -> 63296.407 | I23: =(42000-10500)*1.1+(S23*W23-70000)/U23 -> 68246.407 | J23: =(52000-13500)*1.1+(S23*W23-70000)/U23 -> 75946.407 | K23: =(62000-16000)*1.1+(S23*W23-100000)/U23 -> 83196.407 | S23: =C23-E23*10000 -> 999900 | U23: =C5 -> 30 | V23: =D5 -> 30 | W23: =IF(OR(설정!C5=""),"",SUMPRODUCT((U5:U7=설정!C5)*(W5:W7))) -> 1.078 | X23: =IF(OR(설정!D5=""),"",SUMPRODUCT((KT할부개월=설정!D5)*(X5:X7))) -> 1.075 | Y23: =S23*W23 -> 1077892.2
B24: 옵티머스 LTE 2 | C24: 935000 | D24: 935000 | E24: 0 | F24: 0.5 | H24: =(34000-7000)*1.1+(S24*W24-70000)/U24 -> 60964.333 | I24: =(42000-10500)*1.1+(S24*W24-70000)/U24 -> 65914.333 | J24: =(52000-13500)*1.1+(S24*W24-70000)/U24 -> 73614.333 | K24: =(62000-16000)*1.1+(S24*W24-100000)/U24 -> 80864.333 | M24: =(34000-7000)*1.1+T24*X24/V24 -> 63025 | N24: =(42000-11000)*1.1+T24*X24/V24 -> 67425 | O24: =(52000-14000)*1.1+T24*X24/V24 -> 75125 | P24: =(62000-16000)*1.1+T24*X24/V24-1333 -> 82592 | S24: =C24-E24*10000 -> 935000 | T24: =D24-F24*10000 -> 930000 | U24: =C5 -> 30 | V24: =D5 -> 30 | W24: =IF(OR(설정!C5=""),"",SUMPRODUCT((U5:U7=설정!C5)*(W5:W7))) -> 1.078 | X24: =IF(OR(설정!D5=""),"",SUMPRODUCT((KT할부개월=설정!D5)*(X5:X7))) -> 1.075 | Y24: =S24*W24 -> 1007930 | Z24: =T24*X24 -> 999750
B28: 모델 | C28: SKT | D28: KT | E28: SKT할인 | F28: KT할인 | H28: SKT | M28: KT | S28: 할부원금 | U28: 할부개월 | W28: 이자 | Y28: 할부금
C29: 출고가 | D29: 출고가 | E29: (만원) | F29: (만원) | H29: - | I29: 34 | J29: 44 | K29: 54 | M29: 알34 | N29: 34 | O29: 알44 | P29: 44 | Q29: 54 | S29: SKT | T29: KT | U29: SKT | V29: KT | W29: SKT | X29: KT | Y29: SKT | Z29: KT
B30: 갤럭시 S2 | C30: 847000 | D30: 847000 | E30: 0 | F30: 0.7 | I30: =(34000-11000)*1.1+(S30*W30-70000)/U30 -> 53402.2 | J30: =(44000-14500)*1.1+(S30*W30-70000)/U30 -> 60552.2 | K30: =(54000-17500)*1.1+(S30*W30-100000)/U30 -> 67252.2 | M30: =(34000-11000)*1.1+(T30*X30-40000)/V30 -> 54066.667 | N30: =(34000-13000)*1.1+(T30*X30-40000)/V30 -> 51866.667 | O30: =(44000-14500)*1.1+(T30*X30-40000)/V30 -> 61216.667 | P30: =(44000-16000)*1.1+(T30*X30-40000)/V30 -> 59566.667 | Q30: =(54000-18000)*1.1+(T30*X30-80000)/V30 -> 67033.333 | S30: =C30-E30*10000 -> 847000 | T30: =D30-F30*10000 -> 840000 | U30: =C5 -> 30 | V30: =D5 -> 30 | W30: =IF(OR(설정!C5=""),"",SUMPRODUCT((U5:U7=설정!C5)*(W5:W7))) -> 1.078 | X30: =IF(OR(설정!D5=""),"",SUMPRODUCT((KT할부개월=설정!D5)*(X5:X7))) -> 1.075 | Y30: =S30*W30 -> 913066 | Z30: =T30*X30 -> 903000
B31: 프라다 3 | C31: 899800 | D31: 899800 | E31: 0 | F31: 3.98 | I31: =(34000-11000)*1.1+(S31*W31-70000)/U31 -> 55299.48 | J31: =(44000-14500)*1.1+(S31*W31-70000)/U31 -> 62449.48 | K31: =(54000-17500)*1.1+(S31*W31-10000)/U31 -> 72149.48 | M31: =(34000-11500)*1.1+(T31*X31-40000)/V31 -> 54233.333 | N31: =(34000-13000)*1.1+(T31*X31-40000)/V31 -> 52583.333 | O31: =(44000-14500)*1.1+(T31*X31-40000)/V31 -> 61933.333 | P31: =(44000-16000)*1.1+(T31*X31-40000)/V31 -> 60283.333 | Q31: =(54000-18000)*1.1+(T31*X31-80000)/V31 -> 67750 | S31: =C31-E31*10000 -> 899800 | T31: =D31-F31*10000 -> 860000 | U31: =C5 -> 30 | V31: =D5 -> 30 | W31: =IF(OR(설정!C5=""),"",SUMPRODUCT((U5:U7=설정!C5)*(W5:W7))) -> 1.078 | X31: =IF(OR(설정!D5=""),"",SUMPRODUCT((KT할부개월=설정!D5)*(X5:X7))) -> 1.075 | Y31: =S31*W31 -> 969984.4 | Z31: =T31*X31 -> 924500
B32: 태이크 HD | D32: 792000 | F32: 0.2 | M32: =(34000-11500)*1.1+(T32*X32-40000)/V32 -> 51725 | N32: =(34000-13000)*1.1+(T32*X32-40000)/V32 -> 50075 | O32: =(44000-14500)*1.1+(T32*X32-40000)/V32 -> 59425 | P32: =(44000-16000)*1.1+(T32*X32-40000)/V32 -> 57775 | Q32: =(54000-18000)*1.1+(T32*X32-80000)/V32 -> 65241.667 | T32: =D32-F32*10000 -> 790000 | U32: =C5 -> 30 | V32: =D5 -> 30 | W32: =IF(OR(설정!C5=""),"",SUMPRODUCT((U5:U7=설정!C5)*(W5:W7))) -> 1.078 | X32: =IF(OR(설정!D5=""),"",SUMPRODUCT((KT할부개월=설정!D5)*(X5:X7))) -> 1.075 | Z32: =T32*X32 -> 849250
B33: 갤럭시 S3 | C33: 904200 | E33: 0 | I33: =(34000-11000)*1.1+(S33*W33-120000)/U33 -> 53790.92 | J33: =(44000-14500)*1.1+(S33*W33-120000)/U33 -> 60940.92 | K33: =(54000-17500)*1.1+(S33*W33-150000)/U33 -> 67640.92 | S33: =C33-E33*10000 -> 904200 | U33: =C5 -> 30 | V33: =D5 -> 30 | W33: =IF(OR(설정!C5=""),"",SUMPRODUCT((U5:U7=설정!C5)*(W5:W7))) -> 1.078 | X33: =IF(OR(설정!D5=""),"",SUMPRODUCT((KT할부개월=설정!D5)*(X5:X7))) -> 1.075 | Y33: =S33*W33 -> 974727.6
AF35: 개월

Sheet SKY, LG 비교
B1: 옵티머스 LTE | C1: 옵티머스 LTE Ⅱ | D1: 베가 LTE M | E1: 베가 레이서 2
B2: LG-SU640/LU6200 | C2: LG-F160(S,K,L) | D2: IM-A810(S/K) | E2: IM-A830(S/K/L)
A3: 제조사 | B3: LG전자 | C3: LG전자 | D3: SKY | E3: SKY
A4: 통신사 | B4: SK텔레콤, LG유플러스 | C4: SK텔레콤, KT, LG유플러스 | D4: SK텔레콤, KT, LG유플러스 | E4: SK텔레콤, KT, LG유플러스
A5: 발매일 | B5: 2011년 10월 10일 | C5: 2012년 5월 17일 | D5: 2011년 12월 12일 | E5: 2012년 5월 10일
A6: 전원 | B6: 착탈식 리튬 이온 배터리 | C6: 찰탁식 리튬 이온 배터리 | D6: 찰탁식 리튬 이온 배터리 | E6: 찰탁식 리튬 이온 배터리
B7: 1,830 mAh | C7: 2,150mAh. 무선충전기 별매 | D7: 1,830mAh | E7: 2,020mAh
A8: CPU | B8: 퀄컴 스냅드래곤 MSM8660 1.5GHz | C8: 퀄컴 스냅드래곤 MSM8960 1.5GHz | D8: 퀄컴 스냅드래곤 MSM8660 1.5GHz | E8: 퀄컴 스냅드래곤 MSM8960 1.5GHz
B9: 듀얼코어 | C9: 1-Chip, 듀얼코어 | D9: 듀얼코어 | E9: 듀얼코어
A10: 화면 | B10: 4.5" AH-IPS True HD Display | C10: 4.7" IPS True HD Display | D10: 4.5" IPS | E10: 4.8"
B11: 1280×720 (HD) | C11: 1280×720 (HD) | D11: 1280×800 (HD) | E11: 1280×720 (HD)
A12: 운영체제 | B12: 안드로이드 | C12: 안드로이드 4.0 ICS | D12: 안드로이드 | E12: 안드로이드 4.0 ICS
A13: RAM | B13: 1GB DDR2 SDRAM | C13: 2G DDR2 RAM | D13: 1G DDR2 RAM | E13: 1G DDR2 RAM
A14: 내장 메모리 | B14: 4GB | C14: 16GB | D14: 16GB + SKY스토리지 16GB | E14: 16GB + SKY스토리지 16GB
A15: 전면 카메라 | B15: 130만 화소 | C15: 130만 화소 | D15: 200만 화소 | E15: 200만 화소
A16: 후면 카메라 | B16: 800만 화소, AF, LED 플래시 | C16: 800만 화소, AF, LED 플래시 | D16: 800만 화소, AF, LED 플래시 | E16: 800만 화소, AF, LED 플래시
A17: 무게 | B17: 135 g | C17: 145 g | D17: 141g | E17: 133g
A18: 이전기종 | B18: 옵티머스 EX | C18: 옵티머스 Tag | D18: 베가 LTE | E18: 베가 LTE EX
A19: 후속 기종 | B19: 프라다 3.0 | C19: - | D19: 베가 LTE EX | E19: -

Sheet 단말기 스펙
A1: 제조사 | B1: 핏네임 | C1: 화면 | D1: CPU | E1: RAM | F1: 배터리 용량 | G1: 배터리 | H1: 카메라 화소 | J1: 내장 | K1: 외장 | L1: 특징
C2: (") | D2: (GHz) | E2: (MB) | F2: (mAh) | G2: 형태 | H2: 후면 | I2: 전면 | J2: (GB) | K2: 지원
A3: 애플 | B3: 아이폰 4 | C3: 3.5 | D3: 1.0 | E3: 512 | F3: 1420 | G3: 일체형 | H3: 500 | K3: X
B4: 아이폰 4S | C4: 3.5 | D4: 1.0 | E4: 512 | F4: 1420 | G4: 일체형 | H4: 800 | K4: X | L4: 2011년 11월 11일
A5: 삼성 | B5: 갤럭시 SⅡ | C5: 4.3 | D5: 1.2 | E5: 1024 | F5: 1650 | G5: 착탈식 | H5: 800 | I5: 200 | J5: 16 | L5: 2011년 4월 29일
B6: 갤럭시 넥서스 | C6: 4.65 | D6: 1.5 | E6: 1024 | F6: 1750 | G6: 착탈식 | H6: 500 | I6: 130 | J6: 16 | L6: 2011년 11월 28일
B7: 갤럭시 SⅡ LTE | C7: 4.5 | D7: 1.5 | E7: 1024 | F7: 1850 | G7: 착탈식 | H7: 800 | I7: 200 | J7: 16 | L7: 2011년 9월 28일
B8: 갤럭시 SⅡ HD | C8: 4.65 | D8: 1.5 | E8: 1024 | F8: 1850 | G8: 착탈식 | H8: 800 | I8: 200 | J8: 16 | L8: 2011년 10월 27일
B9: 갤럭시 노트 | C9: 5.3 | D9: 1.5 | E9: 1024 | F9: 2500 | G9: 착탈식 | H9: 800 | I9: 200 | J9: 16 | L9: 2011년 11월 28일
B10: 갤럭시 R | L10: -
B11: 갤럭시 SⅢ | C11: 4.8 | L11: -
A12: SKY | B12: 베가 레이서 | C12: 4.3 | D12: 1.5 | E12: 1024 | F12: 1620 | G12: 착탈식 | H12: 800 | I12: 130 | J12: 16 | L12: 2011년 6월 10일
B13: 베가 LTE | C13: 4.5 | G13: 착탈식 | J13: 16 | L13: 2011년 10월 6일
B14: 베가 LTE M | C14: 4.5 | D14: 1.5 | E14: 1024 | F14: 1830 | G14: 착탈식 | H14: 800 | I14: 200 | J14: 16 | K14: O | L14: 2011년 12월 12일
B15: 베가 LTE EX | G15: 착탈식
B16: 베가 레이서 2 | C16: 4.8 | D16: 1.5 | E16: 1024 | F16: 2020 | G16: 착탈식 | H16: 800 | I16: 200 | J16: 16 | K16: O | L16: 2012년 5월 3일
A17: LG | B17: 프라다 3.0 | C17: 4.3 | D17: 1.0 | E17: 512 | F17: 1540 | G17: 착탈식 | H17: 800 | I17: 130 | J17: 16 | L17: 2011년 12월 28일
B18: 옵티머스 LTE | C18: 4.5 | D18: 1.5 | E18: 512 | F18: 1830 | G18: 착탈식 | H18: 800 | I18: 130 | J18: 4 | K18: O | L18: 2011년 10월 10일
B19: 옵티머스 LTE 2 | C19: 4.8 | D19: 1.5 | E19: 2048 | F19: 2150 | G19: 착탈식 | H19: 800 | I19: 130 | J19: 16 | K19: O | L19: 2012년 05월 17일
B20: 갤럭시탭 10.1 | C20: 10.1 | D20: 1.0 | E20: 1024 | F20: 7000 | G20: 일체형 | H20: 300 | I20: 200 | J20: 16 | L20: 2011년 7월 20일
B21: 갤럭시탭 8.9 | C21: 8.9
B22: 아이패드 2 | C22: 9.7 | D22: 1.08 | E22: 512 | G22: 일체형 | H22: 90 | I22: 30 | J22: 16 | K22: X | L22: 2011년 4월 29일
B23: 뉴 아이패드 | C23: 9.7 | G23: 일체형 | H23: 500 | K23: X | L23: 2012년 4월 20일

Sheet 주력요금제
B2: ▶ LTE 요금제 안내
B3: T 4G LTE
B4: 요금제 | C4: LTE팅34 | D4: LTE34 | E4: LTE팅42 | F4: LTE42 | G4: LTE52 | H4: LTE62
B5: 기본료 | C5: 34000 | E5: 42000 | G5: 52000 | H5: 62000
B6: 음성 | C6: 34000별 | D6: 120분 | E6: 52000별 | F6: 180분 | G6: 250분 | H6: 350분
B7: 문자 | D7: 200건 | F7: 200건 | G7: 250건 | H7: 350건
B8: 데이터 | C8: 500MB | D8: 550MB | E8: 1GB | F8: 1.1GB | G8: 2GB | H8: 5GB
B10: Olleh LTE WARP
B11: 요금제 | C11: LTE 알340 | D11: LTE 340 | E11: LTE 알420 | F11: LTE 420 | G11: LTE 520 | H11: LTE 620
B12: 기본료 | C12: 34,000원 | E12: 42,000원 | G12: 52,000원 | H12: 62,000원
B13: 음성 | C13: 33000알 | D13: 160분 | E13: 52000알 | F13: 200분 | G13: 250분 | H13: 350분
B14: 문자 | D14: 200건 | F14: 200건 | G14: 250건 | H14: 350건
B15: 데이터 | C15: 750MB | D15: 750MB | E15: 1.5GB | F15: 1.5GB | G15: 2.5GB | H15: 6GB

Sheet LTE WARP
B2: LTE WARP 요금제 | D2: [국내 최대로 즐기는 데이터와 음성통화!]
B4: 01. 국내 최대 데이터로 LTE 생활즐기기
B5: 02. 국내 최대 통화는 기본, olleh mobile끼리 통화!
B6: 03. olleh니까 문자도 SMS/LMS/MMS 구분없이 1건씩 차감!
B8: LTE WARP 요금제 | C8: 월정액 | D8: 기본 제공 혜택 | H8: 요금할인
D9: 기본데이터 | E9: olleh mobile | F9: 음성/영상 | G9: 문자 | H9: LTE스폰서
D10: (Safe-Zone 추가 제공량 | E10: 끼리 통화 | F10: 통화 | G10: (S/L/MMS)
B11: LTE-100 | C11: 100,000원 | D11: 20GB (+4GB) | E11: 10,000분 | F11: 1,050분 | G11: 1,050건 | H11: -24,000원
B12: LTE-850 | C12: 85,000원 | D12: 14GB (+2.5GB) | E12: 7,000분 | F12: 650분 | G12: 650건 | H12: -20,000원
B13: LTE-720 | C13: 72,000원 | D13: 10GB (+2GB) | E13: 5,000분 | F13: 450분 | G13: 450건 | H13: -18,000원
B14: LTE-620 | C14: 62,000원 | D14: 6GB (+1.2GB) | E14: 3,000분 | F14: 350분 | G14: 350건 | H14: -16,000원
B15: LTE-520 | C15: 52,000원 | D15: 2.5GB (+500MB) | E15: 1,000분 | F15: 250분 | G15: 250건 | H15: -14,000원
B16: LTE-420 | C16: 42,000원 | D16: 1.5GB (+300MB) | F16: 200분 | G16: 200건 | H16: -11,000원
B17: LTE-340 | C17: 34,000원 | D17: 750MB (+150MB) | F17: 160분 | G17: 200건 | H17: -7,000원

Sheet olleh_LTE,3G
B2: ▶ LTE 요금제
B3: LTE WARP 요금제 | C3: 월정액 | D3: 기본 제공 혜택 | G3: 요금할인
D4: 데이터 | E4: 음성 | F4: 문자 | G4: LTE스폰서
E5: 통화
B6: LTE-100 | C6: 100,000원 | D6: 20GB | E6: 1,050분 | F6: 1,050건 | G6: -24,000원
B7: LTE-850 | C7: 85,000원 | D7: 14GB | E7: 650분 | F7: 650건 | G7: -20,000원
B8: LTE-720 | C8: 72,000원 | D8: 10GB | E8: 450분 | F8: 450건 | G8: -18,000원
B9: LTE-620 | C9: 62,000원 | D9: 6GB | E9: 350분 | F9: 350건 | G9: -16,000원
B10: LTE-520 | C10: 52,000원 | D10: 2.5GB | E10: 250분 | F10: 250건 | G10: -14,000원
B11: LTE-420 | C11: 42,000원 | D11: 1.5GB | E11: 200분 | F11: 200건 | G11: -11,000원
B12: LTE-340 | C12: 34,000원 | D12: 750MB | E12: 160분 | F12: 200건 | G12: -7,000원
B14: ▶ 3G 요금제
B15: 일반요금제 | C15: 월정액 | D15: 기본 제공 혜택 | G15: 요금할인
D16: 데이터 | E16: 음성 | F16: 문자 | G16: LTE스폰서
E17: 통화
B18: i-프리미엄 | C18: 94,000원 | D18: 무제한 | E18: 800분 | F18: 1,000건 | G18: -30,000원
B19: i-스페셜 | C19: 78,000원 | E19: 600분 | F19: 600건 | G19: -24,000원
B20: i-미디엄 | C20: 64,000원 | E20: 400분 | F20: 400건 | G20: -21,000원
B21: i-밸류 | C21: 54,000원 | E21: 300분 | F21: 300건 | G21: -18,000원
B22: i-talk | C22: 44,000원 | D22: 100MB | E22: 250분 | F22: 300건 | G22: -16,000원
B23: i-라이트 | C23: 44,000원 | D23: 500MB | E23: 200분 | F23: 300건 | G23: -16,000원
B24: i-슬림 | C24: 34,000원 | D24: 100MB | E24: 150분 | F24: 200건 | G24: -13,000원
B25: i-teen | C25: 34,000원 | D25: 0MB | E25: 200분 | F25: 4,000건 | G25: -13,000원
